BEGIN:VCALENDAR
VERSION:2.0
PRODID:-//SGV Murr e.V. - ECPv6.15.20//NONSGML v1.0//EN
CALSCALE:GREGORIAN
METHOD:PUBLISH
X-WR-CALNAME:SGV Murr e.V.
X-ORIGINAL-URL:https://sgvmurr.de
X-WR-CALDESC:Veranstaltungen für SGV Murr e.V.
REFRESH-INTERVAL;VALUE=DURATION:PT1H
X-Robots-Tag:noindex
X-PUBLISHED-TTL:PT1H
BEGIN:VTIMEZONE
TZID:Europe/Berlin
BEGIN:DAYLIGHT
TZOFFSETFROM:+0100
TZOFFSETTO:+0200
TZNAME:CEST
DTSTART:20250330T010000
END:DAYLIGHT
BEGIN:STANDARD
TZOFFSETFROM:+0200
TZOFFSETTO:+0100
TZNAME:CET
DTSTART:20251026T010000
END:STANDARD
BEGIN:DAYLIGHT
TZOFFSETFROM:+0100
TZOFFSETTO:+0200
TZNAME:CEST
DTSTART:20260329T010000
END:DAYLIGHT
BEGIN:STANDARD
TZOFFSETFROM:+0200
TZOFFSETTO:+0100
TZNAME:CET
DTSTART:20261025T010000
END:STANDARD
BEGIN:DAYLIGHT
TZOFFSETFROM:+0100
TZOFFSETTO:+0200
TZNAME:CEST
DTSTART:20270328T010000
END:DAYLIGHT
BEGIN:STANDARD
TZOFFSETFROM:+0200
TZOFFSETTO:+0100
TZNAME:CET
DTSTART:20271031T010000
END:STANDARD
END:VTIMEZONE
BEGIN:VEVENT
DTSTART;TZID=Europe/Berlin:20260424T193000
DTEND;TZID=Europe/Berlin:20260424T210000
DTSTAMP:20260424T014254
CREATED:20260325T220112Z
LAST-MODIFIED:20260410T103111Z
UID:8546-1777059000-1777064400@sgvmurr.de
SUMMARY:Herzliche Einladung zur Hauptversammlung des SGV Murr
DESCRIPTION:Der SGV Murr lädt alle Mitglieder zur ordentlichen Jahreshauptversammlung 2026 ein! \nWann: Freitag\, 24. April – 19.30 Uhr\nWo: SGV Murr Vereinsheim \nAgenda:\nTOP 1: Begrüßung\nTOP 2: Berichte des Vorstands\nTOP 3: Berichte der Abteilungen\nTOP 4: Entlastung\nTOP 5: Wahlen\n– Kassier\n– Schriftführer/in\n– Vorstandsmitglied Veranstaltungen\nTOP 6: Neue Jugendordnung – Vorstellung / Beschluss\nTOP 7: Termine\nTOP 8: Verschiedenes\nAnträge können bis Freitag\, 17. April\, bei der Vorsitzenden Jutta Rau-Theodosiou unter vorstand@sgvmurr-ev.de eingereicht werden. \nDie Jahreshauptversammlung ist eine gute Gelegenheit\, sich ein Bild über die Arbeit des Hauptvereins und der Abteilungen zu machen. Bitte nutzt die Gelegenheit\, mit uns in den Austausch zu gehen. Teilnahmeberechtigt sind alle Mitglieder ab 16 Jahren.\nWir freuen uns auf euren Besuch! \nDer Vorstand des SGV Murr
URL:https://sgvmurr.de/veranstaltung/jahreshauptversammlung-des-sgv-murr/
CATEGORIES:Hauptverein
ATTACH;FMTTYPE=image/jpeg:https://sgvmurr.de/wp-content/uploads/2026/01/JHV.jpg
END:VEVENT
END:VCALENDAR